BEGIN:VCALENDAR
METHOD:PUBLISH
PRODID:-//6582@www.region-coburg.tv//NONSGML iCalcreator 2.4.3//
VERSION:2.0
BEGIN:VEVENT
UID:6582-20260509150000-20260509160000@www.region-coburg.tv
DTSTAMP:20260423T145421Z
CONTACT:09561 / 898989
CREATED:20260423T134400Z
DESCRIPTION:20.000 Meilen unter dem MeerFamilienkonzert für junges Publiku
 mOrchestererzählung von Henrik AlbrechtNach dem Roman von Jules VerneFür
  junges Publikum:Professor Aronax und Ned Land werden nach einer Begegnung
  mit einem mysteriösen Seeungeheuer von Kapitän Nemo an Bord seines Unte
 rseeboots Nautilus genommen. Gemeinsam erleben sie faszinierende Unterwass
 erwelten\, versunkene Städte und aufregende Abenteuer tief unter dem Meer
 . Henrik Albrecht setzt Jules Vernes Abenteuerroman mit faszinierenden\, s
 pannungsgeladenen Klängen in packende Musik um – ein außergewöhnliche
 s Konzerterlebnis! - Tickets: 09561 / 898989
DTEND:20260509T160000
DTSTART:20260509T150000
LAST-MODIFIED:20260423T134400Z
LOCATION:Globe Coburg
SUMMARY:Familienkonzert: 20.000 Meilen unter dem Meer
X-IMAGE:http://www.region-coburg.tv/images/medium/konzert-63f5dd98.jpg
END:VEVENT
END:VCALENDAR
