BEGIN:VCALENDAR
METHOD:PUBLISH
PRODID:-//6581@www.region-coburg.tv//NONSGML iCalcreator 2.4.3//
VERSION:2.0
BEGIN:VEVENT
UID:6581-20260509200000-20260509230000@www.region-coburg.tv
DTSTAMP:20260424T002153Z
CREATED:20260423T134300Z
DESCRIPTION:Lachalarm - Die große Comedy Show der BauchrednerErleben Sie e
 ine in Deutschland einmalige Show\, die Sie so schnell nicht wieder verges
 sen werden! Acht Bauchrednerinnen und Bauchredner mit ihren einzigartigen 
 Puppen werden für viel Spaß und Zwerchfell-Attacken sorgen! Freuen Sie s
 ich auf großartige Bauchrednerkunst\, Puppenspiel\, Schauspielkunst und W
 ortwitz – eine einmalige Mischung aus Technik\, Kreativität und feinem 
 Humor. Präsentiert wird die Show von Marcelini & Oskar.Der Verein „Bauc
 hrednerfreunde e.V.“ Deutschland veranstaltet zum 17. Mal das jährliche
 \, internationale Festival der Bauchredner. Nach u.a. Köln\, Frankfurt un
 d Hamburg kommt dieses Festival zum ersten Mal nach Coburg und damit auch 
 zum ersten Mal nach Bayern. Die Galashow bildet den Höhepunkt des Festiva
 ls bei dem sich über 30 Bauchrednerinnen und Bauchredner treffen.
DTEND:20260509T230000
DTSTART:20260509T200000
LAST-MODIFIED:20260423T134300Z
LOCATION:Coburg\, Pfarr- und Dekanatszentrum St. Augustin
SUMMARY:Lachalarm - Die große Comedy Show der Bauchredner
X-IMAGE:http://www.region-coburg.tv/images/medium/lachalarm-ead3fb8a.jpg
END:VEVENT
END:VCALENDAR
