BEGIN:VCALENDAR
METHOD:PUBLISH
PRODID:-//6580@www.region-coburg.tv//NONSGML iCalcreator 2.4.3//
VERSION:2.0
BEGIN:VEVENT
UID:6580-20260905110000-20260905113000@www.region-coburg.tv
DTSTAMP:20260423T181652Z
CONTACT:Eintritt frei!
CREATED:20260423T133300Z
DESCRIPTION:Musik zur MarktzeitImmer Samstags von 11:00 bis 11:30 Uhr30 Min
 uten Musik zum Zuhören\, Nachdenken und EntspannenMusikerinnen und Musike
 r aus ganz Süddeutschland laden ein\, für eine halbe Stunde der Hektik d
 es Alltags zu entfliehen und die Seele baumeln zu lassen. - Tickets: Eintr
 itt frei!
DTEND:20260905T113000
DTSTART:20260905T110000
LAST-MODIFIED:20260423T133300Z
LOCATION:Coburg\, Morizkirche
SUMMARY:Musik zur Marktzeit
X-IMAGE:http://www.region-coburg.tv/images/medium/musikzurmarktzeit-828bca4
 a.jpg
END:VEVENT
END:VCALENDAR
