BEGIN:VCALENDAR
METHOD:PUBLISH
PRODID:-//6579@www.region-coburg.tv//NONSGML iCalcreator 2.4.3//
VERSION:2.0
BEGIN:VEVENT
UID:6579-20260425173000-20260425200000@www.region-coburg.tv
DTSTAMP:20260424T011114Z
CREATED:20260423T131400Z
DESCRIPTION:Mädels-FlohmarktStöbern\, Shoppen\, Anstoßen! Kommt vorbei z
 um Selbstverkäufer-Flohmarkt in der Turnhalle in Scherneck. Verkauft wird
  alles für die Frau von heute\, von Mode\, Schuhe bis hin zu Accessoires 
 und vielem mehr. Entspanntes Stöbern in gemütlicher Atmosphäre mit Sekt
 bar und leckeren Snacks ist angesagt.Eintritt: kostenfrei
DTEND:20260425T200000
DTSTART:20260425T173000
LAST-MODIFIED:20260423T131400Z
LOCATION:Scherneck\, TSV Turnhalle
SUMMARY:Mädels-Flohmarkt
X-IMAGE:http://www.region-coburg.tv/images/medium/maedels-99ea4a28.jpg
END:VEVENT
END:VCALENDAR
