BEGIN:VCALENDAR
METHOD:PUBLISH
PRODID:-//6575@www.region-coburg.tv//NONSGML iCalcreator 2.4.3//
VERSION:2.0
BEGIN:VEVENT
UID:6575-20260502140000-20260502230000@www.region-coburg.tv
DTSTAMP:20260423T232525Z
CREATED:20260422T171500Z
DESCRIPTION:Coburg blüht auf 2026Innenstadt lädt am 2. Mai zum Frühlings
 -Erlebnis einAm Samstag\, 2. Mai 2026\, verwandelt sich die Coburger Innen
 stadt von 14 bis 22 Uhr in eine lebendige Erlebnisfläche voller Begegnung
 en\, Aktionen und frühlingshafter Atmosphäre. Unter dem Motto „Coburg 
 blüht auf X Promenade & Plätze“ erwartet Besucherinnen und Besucher ei
 n abwechslungsreiches Programm für die ganze Familie.Gemeinsam mit dem Ta
 g der Städtebauförderung präsentiert sich die Innenstadt als bunte Büh
 ne aus Kultur\, Handel\, Genuss und Mitmachaktionen. Zahlreiche Stationen 
 in der gesamten City – von Ernstplatz\, Albertsplatz und Stockmar-Platz 
 bis in die Spitalgasse – laden zum Flanieren\, Entdecken und Verweilen e
 in. Zum Auftakt des Events wird der Ernstplatz feierlich um 14:00 Uhr von 
 Oberbürgermeister Dominik Sauerteig eröffnet.Die Gäste dürfen sich auf
  Live-Musik\, Kinderaktionen\, kreative Workshops\, Lesungen\, kulinarisch
 e Angebote sowie besondere Aktionen des Coburger Handels freuen. Ergänzt 
 wird das Programm durch spannende Einblicke in aktuelle Stadtentwicklungsp
 rojekte rund um den neu gestalteten Ernstplatz und den Freiherr-von-Stockm
 ar-Platz.Ab 15 Uhr lädt das Nachbarschaftsfest im Steinweg in den Garten 
 „Grün Grüner Gemeinschaft“ zu einem Mitbring-Buffet\, Kinderaktionen
  und Pflanzentauschbörse ein – ein Ort\, um das Miteinander im Quartier
  zu feiern.Den stimmungsvollen Ausklang des Tages bildet ab 19 Uhr das For
 mat „Beats & Bazar“ in der Spitalgasse. Besucherinnen und Besucher dü
 rfen sich auf einen atmosphärischen Abendflohmarkt mit DJ-Sounds\, Street
 food\, Drinks und entspanntem Lounge-Flair unter freiem Himmel freuen.„C
 oburg blüht auf“ steht für Lebensfreude\, Begegnung und die Vielfalt d
 er Innenstadt – ein Tag\, der Coburg von seiner lebendigsten und schöns
 ten Seite zeigt.
DTEND:20260502T230000
DTSTART:20260502T140000
LAST-MODIFIED:20260422T171500Z
LOCATION:Coburg\, Innenstadt
SUMMARY:Coburg blüht auf
X-IMAGE:http://www.region-coburg.tv/images/medium/coburg-917ff6fa.jpg
END:VEVENT
END:VCALENDAR
