BEGIN:VCALENDAR
METHOD:PUBLISH
PRODID:-//6574@www.region-coburg.tv//NONSGML iCalcreator 2.4.3//
VERSION:2.0
BEGIN:VEVENT
UID:6574-20260514200000-20260514000000@www.region-coburg.tv
DTSTAMP:20260423T024538Z
CREATED:20260422T170900Z
DESCRIPTION:Badminton beim FC HaarbrückenWir wachsen weiter & vergrößern
  das sportliche Angebot für unsere Mitglieder.Ab 7. Mai neu beim FCH: Bad
 mintonJeden Donnerstag ab 20 UhrSchaut gerne unverbindlich vorbei!Ihr habt
  vorab Fragen?Unsere Mandy Friedrich erreicht Ihr unter 0177 1662780
DTEND:20260514T000000
DTSTART:20260514T200000
LAST-MODIFIED:20260422T170900Z
LOCATION:Neustadt\, Schulhalle 'Am Moos'
SUMMARY:Badminton
X-IMAGE:http://www.region-coburg.tv/images/medium/badminton-1-37d5d2ca.jpg
END:VEVENT
END:VCALENDAR
