BEGIN:VCALENDAR
METHOD:PUBLISH
PRODID:-//6545@www.region-coburg.tv//NONSGML iCalcreator 2.4.3//
VERSION:2.0
BEGIN:VEVENT
UID:6545-20260312090000-20260312150000@www.region-coburg.tv
DTSTAMP:20260420T163142Z
CREATED:20260226T160100Z
DESCRIPTION:Ausbildungsmesse NECAzubiStarte durch auf der NECAzubi 2026! Du
  stehst am Anfang deines beruflichen Lebenswegs und suchst den passenden A
 usbildungsplatz? Dann ist die NECAzubi 2026 genau das Richtige für dich! 
 Dieses einzigartige Event richtet sich an junge Menschen\, die sich für e
 ine fundierte Berufsausbildung interessieren und den ersten Schritt in ihr
 e Zukunft machen wollen. Am 12. März 2026 öffnet die Frankenhalle in Neu
 stadt bei Coburg ihre Türen – von 9 bis 15 Uhr – und bietet dir die i
 deale Plattform\, um direkt mit Unternehmen in Kontakt zu treten\, wertvol
 le Informationen zu sammeln und dir einen umfassenden Eindruck von verschi
 edenen Ausbildungsberufen zu verschaffen.
DTEND:20260312T150000
DTSTART:20260312T090000
LAST-MODIFIED:20260226T160100Z
LOCATION:Neustadt\, Frankenhalle
SUMMARY:Ausbildungsmesse NECAzubi
X-IMAGE:http://www.region-coburg.tv/images/medium/zubi-9a8c5801.jpg
END:VEVENT
END:VCALENDAR
