BEGIN:VCALENDAR
METHOD:PUBLISH
PRODID:-//6515@www.region-coburg.tv//NONSGML iCalcreator 2.4.3//
VERSION:2.0
BEGIN:VEVENT
UID:6515-20260525180000-20260525000000@www.region-coburg.tv
DTSTAMP:20260426T041258Z
CONTACT:09561 / 898989
CREATED:20260124T205700Z
DESCRIPTION:JeepsDauer: ca. 1\,5 StundenPremiere: 15. Mai 2026Spielort: Rei
 thalleSparte: SchauspielEine satirische Komödie von Nora Abdel-MaksoudIn 
 Deutschland werden jedes Jahr bis zu 400 Milliarden Euro vererbt – doch 
 damit ist jetzt Schluss. Eine radikale Erbschaftsreform soll für echte Um
 verteilung sorgen: Das Erbe wird per Losverfahren neu verteilt\, und die B
 ürokratie übernimmt – natürlich – das Jobcenter. In einem tristen g
 rauen Beamtenbüro sitzen Armin und Gabor und bearbeiten nun auch die Erbs
 chaftsanträge. Silkes Antrag auf ihr Erbe wurde leider abgelehnt. Ärgerl
 ich\, denn ihr Vater war äußerst vermögend. Wenigstens ein Los sollte i
 hr zustehen\, findet Silke und stürmt wutentbrannt ins Jobcenter\, wo sie
  in der Wartehalle Maude trifft. Die wurde beim Pfandflaschensammeln erwis
 cht – und prompt hat Gabor ihr das Pfandgeld von der Grundsicherung abge
 zogen. Zwei Frauen\, zwei völlig unterschiedliche Leben – aber ein geme
 insames Ziel: Sie wollen sich nicht länger von diesem System ausbooten la
 ssen. Kurzerhand greifen sie zur Waffe und stürmen Gabors Büro\, um sich
  ihr „Recht“ mit aller Macht zurückzuholen.Mit bissigem Humor dekonst
 ruiert Nora Abdel-Maksoud die neoliberale Leistungsgesellschaft und liefer
 t dabei eine irrwitzige\, hochaktuelle Abrechnung mit sozialer Ungerechtig
 keit und bürokratischem Wahnsinn. - Tickets: 09561 / 898989
DTEND:20260525T000000
DTSTART:20260525T180000
LAST-MODIFIED:20260124T205700Z
LOCATION:Landestheater Coburg\, Reithalle
SUMMARY:Jeeps
X-IMAGE:http://www.region-coburg.tv/images/medium/jeeps-f048ed31.jpg
END:VEVENT
END:VCALENDAR
