BEGIN:VCALENDAR
METHOD:PUBLISH
PRODID:-//6513@www.region-coburg.tv//NONSGML iCalcreator 2.4.3//
VERSION:2.0
BEGIN:VEVENT
UID:6513-20260515193000-20260515000000@www.region-coburg.tv
DTSTAMP:20260426T021750Z
CONTACT:09561 / 898989
CREATED:20260124T204900Z
DESCRIPTION:SalomeDauer: ca. 2 StundenPremiere: 02. Mai 2026Spielort: GLOBE
  CoburgSparte: MusiktheaterMusikdrama in einem Aufzug von Richard StraussD
 ichtung vom KomponistenNach Oscar Wildes gleichnamigen Drama in der Übers
 etzung von Hedwig LachmannSalome lebt am dekadenten Hof ihrer Mutter Herod
 ias und ihres Stiefvaters Herodes\, umgeben von Intrigen und moralischem V
 erfall. In den gefangengehaltenen\, asketischen Propheten Jochanaan projiz
 iert sie ihr sinnlich-erotisches Verlangen – doch als dieser sie voller 
 Abscheu zurückweist\, steigert sich ihre Obsession ins Monströse. Sie fo
 rdert von Herodes das Haupt des Jochanaan auf einem Silbertablett und besi
 egelt damit ihren eigenen Untergang …Richard Strauss schuf 1905 mit Salo
 me ein skandalumwittertes Musikdrama. Mit seiner Darstellung des korrupten
  Hofes und den ausdifferenzierten Psychogrammen der Figuren reflektierte S
 trauss eindrucksvoll die gesellschaftliche und kulturelle Situation der Ja
 hrhundertwende. Ein Werk über Inzest\, sexuelle Gewalt\, Blasphemie\, Mor
 d und Nekrophilie – aber auch über weibliche Ermächtigung in einer pat
 riarchalen Ordnung. In seiner Radikalität\, Sinnlichkeit und Abgründigke
 it bleibt Salome bis heute verstörend und faszinierend zugleich.Das Lande
 stheater zeigt das Musikdrama in deutscher Sprache mit deutschen Übertite
 ln. - Tickets: 09561 / 898989
DTEND:20260515T000000
DTSTART:20260515T193000
LAST-MODIFIED:20260124T204900Z
LOCATION:Globe Coburg
SUMMARY:Salome
X-IMAGE:http://www.region-coburg.tv/images/medium/salomone-afeb2f68.jpg
END:VEVENT
END:VCALENDAR
