BEGIN:VCALENDAR
METHOD:PUBLISH
PRODID:-//6512@www.region-coburg.tv//NONSGML iCalcreator 2.4.3//
VERSION:2.0
BEGIN:VEVENT
UID:6512-20260503150000-20260503000000@www.region-coburg.tv
DTSTAMP:20260426T022216Z
CONTACT:09561 / 898989
CREATED:20260124T204600Z
DESCRIPTION:Bernarda Albas HausDauer: ca. 2 StundenPremiere: 28. März 2026
 Spielort: GLOBE CoburgSparte: SchauspielVon Federico García LorcaDeutsch 
 von Karina Gómez-MonteroWenn ein Mann stirbt\, darf für die nächsten ac
 ht Jahre keine Frau das Haus verlassen\, so verlangt es die Tradition. Die
  seit Kurzem verwitwete Bernarda Alba setzt diese Tradition rigoros um\, w
 enn nötig auch mit Gewalt. Die Ehre und der gesellschaftliche Ruf stehen 
 für sie über allem. Für ihre fünf Töchter wird das Haus zum Gefängni
 s. Eingesperrt\, abgeschnitten von der Außenwelt\, sehnen sie sich nach L
 iebe\, Freiheit und Selbstbestimmung. Doch Bernarda duldet keinen Ungehors
 am – und keine Ehe unter Stand. Nur Augustina\, der ältesten Tochter\, 
 wird eine Verlobung mit dem attraktiven Pepe el Romano erlaubt. Doch auf d
 iesen\, hat auch die jüngste Tochter Adela ein Auge geworfen. Was folgt\
 , ist ein erbitterter Kampf zwischen Pflicht und Leidenschaft\, Kontrolle 
 und Rebellion – mit fatalen Konsequenzen.Bernarda Albas Haus ist das let
 zte Stück des Dichters Federico Gracía Lorca\, geschrieben kurz vor sein
 er Ermordung durch das faschistische Franco-Regime. Er entwirft eine Gesch
 ichte über weibliche Unterdrückung\, verhindertes Begehren\, Macht und R
 ebellion. Ein zeitloses Meisterwerk\, das in einer intensiven Mischung aus
  Schauspiel und Tanz zum Leben erwacht.Hinweis: Das Stück enthält Szenen
  und Inhalte\, in denen Suizid thematisiert wird.Spartenübergreifende Pro
 duktion zwischen dem Schauspielensemble und dem Ballett Coburg. - Tickets:
  09561 / 898989
DTEND:20260503T000000
DTSTART:20260503T150000
LAST-MODIFIED:20260124T204600Z
LOCATION:Globe Coburg
SUMMARY:Bernarda Albas Haus
X-IMAGE:http://www.region-coburg.tv/images/medium/haus-55d4066d.jpg
END:VEVENT
END:VCALENDAR
