BEGIN:VCALENDAR
METHOD:PUBLISH
PRODID:-//6509@www.region-coburg.tv//NONSGML iCalcreator 2.4.3//
VERSION:2.0
BEGIN:VEVENT
UID:6509-20260519193000-20260519000000@www.region-coburg.tv
DTSTAMP:20260426T022035Z
CONTACT:09561 / 898989
CREATED:20260124T193900Z
DESCRIPTION:Phädra\, in FlammenDauer: ca. 2 StundenPremiere: 14. Februar 2
 026Spielort: GLOBE CoburgSparte: SchauspielVon Nino HaratischwiliAthen im 
 Stillstand. Der alte König Theseus verkündet mal wieder seinen Rücktrit
 t\, doch bisher ist nichts geschehen. Auch seine Gattin Phädra wird langs
 am ungeduldig\, möchte sie doch endlich das enge Korsett des Hofes abstre
 ifen. Der designierte Thronfolger\, Demophon\, wartet bereits auf seine Kr
 önung. Alles\, was noch fehlt\, ist die geplante Heirat mit Persea\, die 
 den Machtwechsel besiegeln soll. Doch Persea ist keine fügsame Braut. Sta
 tt sich in ihrem Schicksal zu ergeben\, stellt sie die Regeln infrage – 
 und entfacht ihre verbotene Liebe zu Phädra. Ein Skandal\, der die Grundf
 esten der Athener Gesellschaft erschüttert. In einer Welt\, die von rigid
 en Regeln und dem Einfluss des Hohepriesters beherrscht wird\, kann Liebe 
 zum gefährlichen Akt der Rebellion werden. Was folgt\, ist ein Kampf zwis
 chen gesellschaftlicher Ordnung und individueller Freiheit.Nino Haratischw
 ili hat ein leidenschaftliches Kammerspiel über Macht\, Begehren und Selb
 stbestimmung geschrieben. Inspiriert vom antiken Phädra-Mythos\, erzählt
  das Stück von einer Welt\, in der politische Intrigen\, persönliche Seh
 nsüchte und alte Strukturen unaufhaltsam kollidieren.Hinweis: Bei der Vor
 stellung am 08.03. findet ein Nachgespräch - u.a. mit Natalie Mozzo (Kein
 e Gewalt gegen Frauen e.V. Coburg & Aktionskreis Int. Frauentag Coburg) - 
 anlässlich des Internationalen Frauentags statt. - Tickets: 09561 / 89898
 9
DTEND:20260519T000000
DTSTART:20260519T193000
LAST-MODIFIED:20260124T193900Z
LOCATION:Globe Coburg
SUMMARY:Phädra\, in Flammen
X-IMAGE:http://www.region-coburg.tv/images/medium/flammen-bd1a7c67.jpg
END:VEVENT
END:VCALENDAR
