BEGIN:VCALENDAR
METHOD:PUBLISH
PRODID:-//6448@www.region-coburg.tv//NONSGML iCalcreator 2.4.3//
VERSION:2.0
BEGIN:VEVENT
UID:6448-20251121200000-20251121000000@www.region-coburg.tv
DTSTAMP:20260420T021607Z
CONTACT:09561 / 898989
CREATED:20251025T222000Z
DESCRIPTION:SchauspielDas diesjährige Weihnachtsstück in der Reithalle wi
 rft einen Blick auf den Wahnsinn des Alltags. Basierend auf seinen eigenen
  Erlebnissen als Aushilfs-Weihnachtself in der berühmten Kaufhauskette Ma
 cy‘s\, zeichnet David Sedaris ein herrlich absurdes Bild der festlichen 
 Saison – voller überdrehter Kund*innen\, launischer Kolleg*innen und sc
 hreiender Kinder\, die dem Weihnachtsmann ihre Wünsche diktieren. Mit vie
 l Humor begegnen wir menschlichen Eigenheiten\, banalen Situationen und ti
 efsinnigen Geschichten. Eine Satire über den Konsumwahn\, weihnachtliche 
 Heuchelei und die Absurditäten des modernen Festtagsrituals. Der unterhal
 tsame Abend betrachtet Weihnachten mit einem Augenzwinkern und viel Musik.
  Landestheater Coburg\, Premiere am 21.11.2025 - Tickets: 09561 / 898989
DTEND:20251121T000000
DTSTART:20251121T200000
LAST-MODIFIED:20251025T222000Z
LOCATION:Landestheater Coburg\, Reithalle
SUMMARY:'Bekenntnisse eines Weihnachtselfs'
X-IMAGE:http://www.region-coburg.tv/images/medium/elf-4fe1b81d.jpg
END:VEVENT
END:VCALENDAR
