BEGIN:VCALENDAR
METHOD:PUBLISH
PRODID:-//6447@www.region-coburg.tv//NONSGML iCalcreator 2.4.3//
VERSION:2.0
BEGIN:VEVENT
UID:6447-20251203193000-20251203000000@www.region-coburg.tv
DTSTAMP:20260420T035150Z
CONTACT:09561 / 898989
CREATED:20251025T221100Z
DESCRIPTION:BallettEr verliert sein Herz und sie ihren Schuh â€“ mit mÃ¤rch
 enhaften Folgen â€¦ So knapp und prÃ¤gnant lÃ¤sst sich der HÃ¶hepunkt eine
 s der meist adaptierten MÃ¤rchen der Weltliteratur zusammenfassen. Die Ges
 chichte vom ausgebeuteten und erniedrigten AschenbrÃ¶del berÃ¼hrt und bege
 istert seit jeher Menschen jeden Alters. Ob als Film\, Oper oder Ballett â
 €“ immer wieder fasziniert diese ErzÃ¤hlung von Liebe\, Hoffnung und dem u
 nerschÃ¼tterlichen Glauben daran\, dass TrÃ¤ume wahr werden kÃ¶nnen.Landes
 theater Coburg\, Premiere am 29.11.2025 - Tickets: 09561 / 898989
DTEND:20251203T000000
DTSTART:20251203T193000
LAST-MODIFIED:20251025T221100Z
LOCATION:Globe Coburg
SUMMARY:AschenbrÃ¶del
X-IMAGE:http://www.region-coburg.tv/images/medium/aschenbroedel-4ac0d174.jp
 g
END:VEVENT
END:VCALENDAR
