BEGIN:VCALENDAR
METHOD:PUBLISH
PRODID:-//6446@www.region-coburg.tv//NONSGML iCalcreator 2.4.3//
VERSION:2.0
BEGIN:VEVENT
UID:6446-20251109180000-20251109000000@www.region-coburg.tv
DTSTAMP:20260420T021639Z
CONTACT:09561 / 898989
CREATED:20251025T220700Z
DESCRIPTION:SchauspielGottfried Greiffenhagen und Franz Wittenbrink erzähl
 en in ihrem musikalischen Schauspiel den Aufstieg und das Scheitern des be
 rühmten Vokalensembles. Auch wenn die Handlung frei erfunden ist\, orient
 iert sie sich an historisch verbürgten Szenen. Außerdem erinnert die Ges
 chichte eindringlich an einen weiteren schnellen Aufstieg: den der Nationa
 lsozialisten.Landestheater Coburg - Tickets: 09561 / 898989
DTEND:20251109T000000
DTSTART:20251109T180000
LAST-MODIFIED:20251025T220700Z
LOCATION:Globe Coburg
SUMMARY:Die Comedian Harmonists (WA)
X-IMAGE:http://www.region-coburg.tv/images/medium/comedian-83ff8794.jpg
END:VEVENT
END:VCALENDAR
