BEGIN:VCALENDAR
METHOD:PUBLISH
PRODID:-//6445@www.region-coburg.tv//NONSGML iCalcreator 2.4.3//
VERSION:2.0
BEGIN:VEVENT
UID:6445-20251206180000-20251206000000@www.region-coburg.tv
DTSTAMP:20260420T054400Z
CONTACT:09561 / 898989
CREATED:20251025T215400Z
DESCRIPTION:SchauspielIn jener stürmischen Gewitternacht\, als die Räuber
 tochter Ronja geboren wird\, spaltet ein Blitzschlag die Mattisburg. Forta
 n gibt es zwei Burghälften. In der einen Burghälfte lebt Ronja mit ihrer
  Räuberinnen- und Räuberbande\, angeführt durch ihren Vater Mattis. Die
  andere Burghälfte bleibt lange leer – bis sich plötzlich die verfeind
 ete Borka-Bande dort breitmacht. Als Ronja älter wird\, beginnt sie den a
 ngrenzenden Wald auf eigene Faust zu erkunden. Auf diesen Streifzügen mus
 s sie Wilddruden\, Graugnomen und so manch anderen Gefahren trotzen und be
 gegnet schließlich Birk\, dem Sohn der feindlichen Borka-Bande.Landesthea
 ter Coburg\, Premiere am 15.11.2025 - Tickets: 09561 / 898989
DTEND:20251206T000000
DTSTART:20251206T180000
LAST-MODIFIED:20251025T215400Z
LOCATION:Globe Coburg
SUMMARY:Ronja Räubertochter
X-IMAGE:http://www.region-coburg.tv/images/medium/ronjaraeubertochter-62e62
 bd6.jpg
END:VEVENT
END:VCALENDAR
