BEGIN:VCALENDAR
METHOD:PUBLISH
PRODID:-//6444@www.region-coburg.tv//NONSGML iCalcreator 2.4.3//
VERSION:2.0
BEGIN:VEVENT
UID:6444-20251204193000-20251204000000@www.region-coburg.tv
DTSTAMP:20260420T035248Z
CONTACT:09561 / 898989
CREATED:20251025T214300Z
DESCRIPTION:MusiktheaterÂ â€“Â OperIn einer eiskalten Mansarde in Paris trÃ
 ¤umen der Dichter Rodolfo\, der Maler Marcello\, der Philosoph Colline und
  der Musiker Schaunard von Ruhm\, Kunst und Liebe: arm an Geld\, doch reic
 h an Idealen. Ein zufÃ¤lliges Klopfen an der TÃ¼r verÃ¤ndert alles: MimÃ¬ 
 tritt in Rodolfos Leben. Eine Liebe entflammt\, voller Leidenschaft und Ho
 ffnung â€“ doch MimÃ¬ ist todkrank. Bald wird klar\, dass selbst die grÃ¶Ã
 Ÿte Liebe den Widrigkeiten des Lebens nicht trotzen kann â€¦Landestheater 
 Coburg\, Premiere am 01.11.2025 - Tickets: 09561 / 898989
DTEND:20251204T000000
DTSTART:20251204T193000
LAST-MODIFIED:20251025T214300Z
LOCATION:Globe Coburg
SUMMARY: La bohÃ¨me
X-IMAGE:http://www.region-coburg.tv/images/medium/laboheme-458e6a1c.jpg
END:VEVENT
END:VCALENDAR
