BEGIN:VCALENDAR
METHOD:PUBLISH
PRODID:-//6443@www.region-coburg.tv//NONSGML iCalcreator 2.4.3//
VERSION:2.0
BEGIN:VEVENT
UID:6443-20251202193000-20251202000000@www.region-coburg.tv
DTSTAMP:20260420T035115Z
CONTACT:09561 / 898989
CREATED:20251025T213800Z
DESCRIPTION:Musiktheater – Komische OperEs ist Karneval in Venedig. Die
  Stadt ist erfüllt von Masken und Verkleidungen\, Sehnsüchten und Illusi
 onen. Alles ist erlaubt\, solange der Karneval regiert. Im bunten Treiben 
 der Lagunenstadt stellt Herzog Urbino\, ein berüchtigter Playboy\, jedem 
 Rock nach\, der seinen Weg kreuzt und versetzt damit die Ehemänner der St
 adt in pure Panik. Doch während die Männer versuchen\, ihre Ehefrauen vo
 r dem berüchtigten Verführer zu schützen\, haben diese längst eigene P
 läne geschmiedet – jeglicher männlichen Dominanz zum Trotz …Landesth
 eater Coburg\, Premiere am 20.09.2025 - Tickets: 09561 / 898989
DTEND:20251202T000000
DTSTART:20251202T193000
LAST-MODIFIED:20251025T213800Z
LOCATION:Globe Coburg
SUMMARY:Eine Nacht in Venedig
X-IMAGE:http://www.region-coburg.tv/images/medium/einenachtinvenedig-476910
 61.jpg
END:VEVENT
END:VCALENDAR
