BEGIN:VCALENDAR
METHOD:PUBLISH
PRODID:-//6442@www.region-coburg.tv//NONSGML iCalcreator 2.4.3//
VERSION:2.0
BEGIN:VEVENT
UID:6442-20251031193000-20251031000000@www.region-coburg.tv
DTSTAMP:20260420T002656Z
CONTACT:09561 / 898989
CREATED:20251025T213200Z
DESCRIPTION:Tragische KomödieDauer: ca. 2 Stunden und 20 MinutenPause: 1 P
 ause - ca. 20 MinutenPremiere: 3. Oktober 2025Spielort: GLOBE CoburgSparte
 : SchauspielEine tragische Komödie in drei Akten von Friedrich Dürrenmat
 tDer Bahnhof von Güllen ist heruntergekommen. Auch die Straßen und Gebä
 ude sind marode\, viele Geschäfte geschlossen und die meisten Besitztüme
 r der Bürgerinnen und Bürger verpfändet. Geld muss her\, und zwar dring
 end! Da kommt die Ankündigung eines Besuchs gerade recht: Claire Zachanas
 sian\, eine milliardenschwere Wohltäterin\, kehrt in ihre Heimatstadt zur
 ück. Einst in Güllen als Klara Wäscher geboren\, musste sie die Stadt H
 als über Kopf verlassen\, nachdem ihre Jugendliebe Alfred Ill ihr übel m
 itgespielt hat. Nun ist Claire zurück und unterbreitet den Güllnerinnen 
 und Güllern ein Angebot. Eine Milliarde\, doch dafür muss Alfred Ill ste
 rben. Mit großer Empörung wird das Angebot abgelehnt. Lieber arm\, als b
 lutbefleckt! Doch nach und nach steigt die Konsumfreude in der Stadt\, ein
  neues Rathaus soll gebaut werden und auch die Kirche hat plötzlich neue 
 Glocken...Friedrich Dürrenmatts weltberühmtes Drama ist eine fesselnde G
 eschichte über die Abgründe menschlicher Moral und der zerstörerischen 
 Macht des Geldes. Was kostet deine Moral?Hinweis: In dieser Inszenierung w
 ird geraucht und es kommt zum szenischen sowie akustischen Einsatz von rea
 listisch anmutenden Waffen. - Tickets: 09561 / 898989
DTEND:20251031T000000
DTSTART:20251031T193000
LAST-MODIFIED:20251025T213200Z
LOCATION:Globe Coburg
SUMMARY:Der Besuch der alten Dame
X-IMAGE:http://www.region-coburg.tv/images/medium/dame-64d00c51.jpg
END:VEVENT
END:VCALENDAR
