BEGIN:VCALENDAR
METHOD:PUBLISH
PRODID:-//6441@www.region-coburg.tv//NONSGML iCalcreator 2.4.3//
VERSION:2.0
BEGIN:VEVENT
UID:6441-20251101110000-20251101000000@www.region-coburg.tv
DTSTAMP:20260420T002503Z
CONTACT:09561 / 898989
CREATED:20251025T212300Z
DESCRIPTION:KinderballettEin neugieriger Lehrling bleibt allein in der Werk
 statt seines Zaubermeisters zurück. Heimlich wagt er sich an einen mächt
 igen Zauber – doch plötzlich gerät alles außer Kontrolle! Das Wasser 
 steigt\, die Besen tanzen\, und das Chaos nimmt seinen Lauf. Wird der Lehr
 ling seine Kräfte bändigen können\, bevor der Meister zurückkehrt\, od
 er wird er in den tosenden Fluten seines eigenen Übermuts versinken? Ein 
 turbulenter Wettlauf gegen die Zeit beginnt …Landestheater Coburg\, Prem
 iere am 23.10.2025 - Tickets: 09561 / 898989
DTEND:20251101T000000
DTSTART:20251101T110000
LAST-MODIFIED:20251025T212300Z
LOCATION:Landestheater Coburg\, Reithalle
SUMMARY:Der Zauberlehrling
X-IMAGE:http://www.region-coburg.tv/images/medium/zauberlehrling-ce880e5e.j
 pg
END:VEVENT
END:VCALENDAR
