BEGIN:VCALENDAR
METHOD:PUBLISH
PRODID:-//6436@www.region-coburg.tv//NONSGML iCalcreator 2.4.3//
VERSION:2.0
BEGIN:VEVENT
UID:6436-20251108170000-20251108000000@www.region-coburg.tv
DTSTAMP:20260420T021048Z
CREATED:20251023T172200Z
DESCRIPTION:'Hakuna Matata' - Die groÃŸe Kindermusical-GalaDie Kindermusica
 l-GalaÂ â€žHakuna Matataâ€œÂ verspricht eine zauberhafte Reise durch die b
 unte Welt der Musicals\, den bekanntesten Disney-Filmen sowie den beliebte
 sten Kinderfilmen und berÃ¼hrt die Herzen aller Generationen. Mit den groÃ
 Ÿen Kindheits-Helden undÂ Liedern zum Mitsingen und Tanzen wird diese Gala
  zu einem unvergesslichen Erlebnis fÃ¼r die ganze Familie.
DTEND:20251108T000000
DTSTART:20251108T170000
LAST-MODIFIED:20251023T172200Z
LOCATION:Coburg\, Kongresshaus Rosengarten
SUMMARY:'Hakuna Matata' - Die groÃŸe Kindermusical-Gala
X-IMAGE:http://www.region-coburg.tv/images/medium/hakuna-dbff56f5.jpg
END:VEVENT
END:VCALENDAR
