BEGIN:VCALENDAR
METHOD:PUBLISH
PRODID:-//6435@www.region-coburg.tv//NONSGML iCalcreator 2.4.3//
VERSION:2.0
BEGIN:VEVENT
UID:6435-20251107200000-20251107000000@www.region-coburg.tv
DTSTAMP:20260420T021602Z
CREATED:20251023T172100Z
DESCRIPTION:Sebastian Reich & Amanda: 'Purer Zufall'„Purer Zufall“ – 
 die neue Comedyshow\, die dein Glück verdoppelt! Nilpferddame Amanda & Co
  sind bereit für einen Abend voller Spaß und unvorhersehbarer Überrasch
 ungen! Im bereits fünften Tour-Programm von Bauchredner Sebastian Reich g
 eht es rund: Es wird musikalisch\, zauberhaft\, emotional\, romantisch\, i
 nteraktiv und vor allen Dingen lustig! Während Amanda gerne mal improvisi
 ert\, überlässt Sebastian nichts dem Zufall\, so lautet zumindest sein P
 lan. Wäre da nicht Amanda\, die sich auf ein Wiedersehen mit alten Bekann
 ten freut und gemeinsam mit dem Publikum so einige Gäste aus vergangenen 
 Zeiten begrüßt – wenn das mal kein „purer Zufall“ ist!Neue verrüc
 kte Ideen\, eine große Portion Impro und das ein oder andere Highlight au
 s über 20 Jahren Bühnenleben! „Besonders wichtig ist mir wieder\, dass
  sich unsere Show für alle Altersklassen eignet. So freuen wir uns auch b
 ei der neuen Tour wieder auf ein bunt gemischtes Publikum\, vom Single bis
  zum Rentner\, von Familien mit Kindern bis zu Freunden\, die gemeinsam ei
 nen lustigen Abend verbringen wollen“\, so der Würzburger Bauchredner &
  Comedian.Erlebe ein Feuerwerk an Komik und Humor\, dass deine Lachmuskeln
  strapaziert und dir den Alltag für ein paar Stunden versüßt. „Purer 
 Zufall“ garantiert einen Abend voller unbeschwerter Unterhaltung für je
 den!
DTEND:20251107T000000
DTSTART:20251107T200000
LAST-MODIFIED:20251023T172100Z
LOCATION:Coburg\, Kongresshaus Rosengarten
SUMMARY:Sebastian Reich & Amanda: 'Purer Zufall'
X-IMAGE:http://www.region-coburg.tv/images/medium/amanda-bc74c025.jpg
END:VEVENT
END:VCALENDAR
