BEGIN:VCALENDAR
METHOD:PUBLISH
PRODID:-//6429@www.region-coburg.tv//NONSGML iCalcreator 2.4.3//
VERSION:2.0
BEGIN:VEVENT
UID:6429-20251025153000-20251025000000@www.region-coburg.tv
DTSTAMP:20260420T003212Z
CREATED:20251015T153000Z
DESCRIPTION:'Yes\, we dance!'- Tanzshow der Ballettfreunde Coburg„YES\, W
 E  DANCE!“ heißt die mitreißende Tanz-Gala der Ballettfreunde Coburg 
 e.V. im Kongresshaus Rosengarten. Ein Feuerwerk verschiedener Tanztechnike
 n wird von Coburger Institutionen präsentiert\, die Tanz in vielfältigen
  Stilrichtungen unterrichten. Mit dabei sind Tänzer*innen der Compagnie d
 es Landestheaters Coburg. Kreativität\, Gemeinsamkeit\, Energie und Tanzl
 eidenschaft verbindet die Tanzenden der zauberhaften Show „YES\, WE DANC
 E!“
DTEND:20251025T000000
DTSTART:20251025T153000
LAST-MODIFIED:20251015T153000Z
LOCATION:Coburg\, Kongresshaus Rosengarten
SUMMARY:'Yes\, we dance!'
X-IMAGE:http://www.region-coburg.tv/images/medium/tanzshow-02251592.jpg
END:VEVENT
END:VCALENDAR
