BEGIN:VCALENDAR
METHOD:PUBLISH
PRODID:-//6428@www.region-coburg.tv//NONSGML iCalcreator 2.4.3//
VERSION:2.0
BEGIN:VEVENT
UID:6428-20251024200000-20251024000000@www.region-coburg.tv
DTSTAMP:20260420T224051Z
CREATED:20251015T152500Z
DESCRIPTION:Coburg Magisch!Nach dem großen Erfolg der letzten zwei Jahre i
 st „Coburg Magisch!“ wieder da\, mit neuen magischen Momenten! Erleben
  Sie internationale Zauberkünstlerinnen und -künstler hautnah und live.
  Tauchen Sie ein in diese phantastische und magische Welt der Zauberei! Ve
 rgessen Sie den Alltag und werden Sie Zeuge\, wie die Naturgesetzte auf de
 n Kopf gestellt werden\, lachen Sie\, staunen Sie und lassen Sie sich verz
 aubern!Mit dabei sind:Alexander Lehmann - Zaubern ohne HasenMaurice Grange
  - ManipulationKohrhammer & Klatt - Illusionen & ComedyJana Felizitas - Ma
 gierin des Jahres 2022Nikolai Striebel - Europameister und Vizeweltmeister
  der ZauberkunstPhantaro - Zauberkunst HautnahMarcelini - Gastgeber und Mo
 derator
DTEND:20251024T000000
DTSTART:20251024T200000
LAST-MODIFIED:20251015T152500Z
LOCATION:Coburg\, Pfarr- und Dekanatszentrum St. Augustin
SUMMARY:Coburg Magisch!
X-IMAGE:http://www.region-coburg.tv/images/medium/magisch-ad6c0dda.jpg
END:VEVENT
END:VCALENDAR
