BEGIN:VCALENDAR
METHOD:PUBLISH
PRODID:-//6400@www.region-coburg.tv//NONSGML iCalcreator 2.4.3//
VERSION:2.0
BEGIN:VEVENT
UID:6400-20250914110000-20250914000000@www.region-coburg.tv
DTSTAMP:20260420T224410Z
CREATED:20250905T122700Z
DESCRIPTION:Symphonic Mob und TheaterfestDie Spielzeit 2025/26 beginnt mit 
 dem Theaterfest rund um das GLOBE Coburg am Sonntag\, 14. September 2025. 
 Ab 11 Uhr gibt es auf und hinter der Bühne viel zu entdecken – ein abwe
 chslungsreicher Tag für die ganze Familie.Zu erleben sind unter anderem e
 ine Gala mit Szenen aus den kommenden Neuproduktionen\, Lesungen zu Schaus
 pielproduktionen\, Märchenkonzerte\, ein offenes Balletttraining sowie kr
 eative Mitmachaktionen wie Bastel- und Theaterworkshops. Kulinarische Ange
 bote laden zum Verweilen ein. Auch ein Kostümverkauf ist Teil des Program
 ms – ebenso wie der Vorverkaufsstart für das diesjährige Weihnachtsmä
 rchen „Ronja Räubertochter“. Das Landestheater Coburg freut sich auf 
 Ihren Besuch.
DTEND:20250914T000000
DTSTART:20250914T110000
LAST-MODIFIED:20250905T122700Z
LOCATION:Globe Coburg
SUMMARY:Symphonic Mob und Theaterfest
X-IMAGE:http://www.region-coburg.tv/images/medium/theaterfest-573745a2.jpg
END:VEVENT
END:VCALENDAR
