BEGIN:VCALENDAR
METHOD:PUBLISH
PRODID:-//6368@www.region-coburg.tv//NONSGML iCalcreator 2.4.3//
VERSION:2.0
BEGIN:VEVENT
UID:6368-20250812200000-20250812000000@www.region-coburg.tv
DTSTAMP:20260420T224332Z
CREATED:20250813T182600Z
DESCRIPTION:Fränkischer Kinosommer in RödentalDas Open-Air KinoerlebnisMo
 ntag\, 11.08.: Die Schule der magischen Tiere 3Dienstag\, 12.08.: Chanta
 l im MärchenlandMittwoch\, 13.08.: Mickey 17Donnerstag\, 14.08.: A Kille
 r RomanceFür Speisen und Getränke sorgen unsere ortsansässigen Vereine.
 Einlass ab 20:00 Uhr\, Filmbeginn mit SonnenuntergangKeine Platzreservieru
 ng möglich\; keine mitgebrachten Speisen und Getränke erlaubt.
DTEND:20250812T000000
DTSTART:20250812T200000
LAST-MODIFIED:20250813T182600Z
LOCATION:Rödental\, Bürgerplatz
SUMMARY:Fränkischer Kinosommer
X-IMAGE:http://www.region-coburg.tv/images/medium/kinosommer-97ff20e9.png
END:VEVENT
END:VCALENDAR
