BEGIN:VCALENDAR
METHOD:PUBLISH
PRODID:-//6343@www.region-coburg.tv//NONSGML iCalcreator 2.4.3//
VERSION:2.0
BEGIN:VEVENT
UID:6343-20250624200000-20250624000000@www.region-coburg.tv
DTSTAMP:20260419T175825Z
CONTACT:09561 / 898989
CREATED:20250609T091100Z
DESCRIPTION:Choreografische MiniaturenIn der nunmehr 13. Ausgabe von „Fir
 st Steps“ führt das Ballett Coburg unter dem Titel „Whatsoever“ –
  was im Deutschen so viel bedeutet wie „Was auch immer“ – einmal meh
 r die freie und individuelle künstlerische Ausdruckskraft des Tanzes vor 
 Augen: frei und losgelöst von jeglichen Begrenzungen.Landestheater Coburg
 \, Premiere am 13. Juni 2025 - Tickets: 09561 / 898989
DTEND:20250624T000000
DTSTART:20250624T200000
LAST-MODIFIED:20250609T091100Z
LOCATION:Coburg\, Theater in der Reithalle
SUMMARY:First Steps 'Whatsoever'
X-IMAGE:http://www.region-coburg.tv/images/medium/steps-vh-7697debe.jpg
END:VEVENT
END:VCALENDAR
