BEGIN:VCALENDAR
METHOD:PUBLISH
PRODID:-//6342@www.region-coburg.tv//NONSGML iCalcreator 2.4.3//
VERSION:2.0
BEGIN:VEVENT
UID:6342-20250625193000-20250625000000@www.region-coburg.tv
DTSTAMP:20260419T175802Z
CONTACT:09561 / 898989
CREATED:20250609T090100Z
DESCRIPTION:Musikalisches SchauspielGottfried Greiffenhagen und Franz Witte
 nbrink erzählen in ihrem musikalischen Schauspiel den Aufstieg und das Sc
 heitern des berühmten Vokalensembles. Auch wenn die Handlung frei erfunde
 n ist\, orientiert sie sich an historisch verbürgten Szenen. Außerdem er
 innert die Geschichte eindringlich an einen weiteren schnellen Aufstieg: d
 en der Nationalsozialisten.Landestheater Coburg\, Premiere am 14.06.2025 -
  Tickets: 09561 / 898989
DTEND:20250625T000000
DTSTART:20250625T193000
LAST-MODIFIED:20250609T090100Z
LOCATION:Globe Coburg
SUMMARY:Comedian Harmonists
X-IMAGE:http://www.region-coburg.tv/images/medium/harmonists-vh-3d2da30d.jp
 g
END:VEVENT
END:VCALENDAR
