BEGIN:VCALENDAR
METHOD:PUBLISH
PRODID:-//6306@www.region-coburg.tv//NONSGML iCalcreator 2.4.3//
VERSION:2.0
BEGIN:VEVENT
UID:6306-20250516180000-20250516000000@www.region-coburg.tv
DTSTAMP:20260419T123546Z
CONTACT:Eintritt frei\, Spenden willkommen!
CREATED:20250508T151400Z
DESCRIPTION:Kindermusical: „Felicitas Kunterbunt“ der Musical AG Grund-
  u. Mittelschule\, sowie die Mittagsbetreuung WirbelwindMit Felicitas Kun
 terbunt bringen sie aktuelle Themen auf die Bühne: Mobbing\, Ausgrenzung
 \, Vielfalt\, Toleranz\, Frieden und gegenseitige Achtung. Anspruchsvolle 
 Themen? Ja\, gewiss – und gerade deshalb unbedingt sehenswert und besond
 ers hörenswert! Spaß und Vergnügen sind dabei garantiert. Knapp 70 Kind
 er und ihre Betreuer freuen sich auf zahlreiche Zuschauer!In einer Spielze
 ugtruhe leben Puppen und Kuscheltiere friedlich zusammen – bis eines Tag
 es eine neue Mitbewohnerin auftaucht: Felicitas! Doch sie wird schnell au
 sgegrenzt\, weil sie bunt\, schrill und fremd ist. Ihre Versuche\, in ihre
 m neuen Zuhause Freunde zu finden\, scheitern an der Arroganz\, Angst und 
 Missgunst der anderen. Da greift Rabador\, der große Zauberer\, ein. Er 
 versperrt die Truhe – und damit das Zuhause aller – mit einem Zaubersc
 hloss... Bald wird klar: Der passende Schlüssel ist im Kinderzimmer nicht
  zu finden. Also machen sich Felicitas und Franz Findig\, der Detektiv\, m
 it Hilfe eines Zauberbuchs auf eine Reise um die Welt. Von jedem Kontinent
  müssen sie ein Stück sammeln\, um den geheimnisvollen Schlüssel zusamm
 enzusetzen. Auf ihrem musikalischen Abenteuer begegnen sie wilden Piraten\
 , stolzen Indianern\, einem weisen Drachen und vielen anderen. Doch werden
  sie erkennen\, dass nur gemeinsames Handeln und ehrliche Freundschaft sie
  zum Ziel führen?14 Geschichtenlieder und Tänze bilden den musikalischen
  Kern des Stücks. Mal lustig und albern\, mal nachdenklich und lehrreich 
 – immer eingebettet in eine spannende Rahmenhandlung. Die Botschaft laut
 et:„Hinsehen und helfen!“ - Tickets: Eintritt frei\, Spenden willkomme
 n!
DTEND:20250516T000000
DTSTART:20250516T180000
LAST-MODIFIED:20250508T151400Z
LOCATION:Bad Rodach\, Waldbühne Heldritt
SUMMARY:Kindermusical: Felicitas Kunterbunt
X-IMAGE:http://www.region-coburg.tv/images/medium/kunterbunt-f1558e1b.jpg
END:VEVENT
END:VCALENDAR
