BEGIN:VCALENDAR
METHOD:PUBLISH
PRODID:-//6305@www.region-coburg.tv//NONSGML iCalcreator 2.4.3//
VERSION:2.0
BEGIN:VEVENT
UID:6305-20250601150000-20250601000000@www.region-coburg.tv
DTSTAMP:20260419T142048Z
CONTACT:09561 / 898989
CREATED:20250507T092400Z
DESCRIPTION:Oper von Leoš JanáčekJenůfa ist schwanger von Števa\, der 
 von ihr nichts mehr wissen will. Allein gelassen bringt Jenůfa im Geheime
 n ihr Kind zur Welt. Ihre Stiefmutter\, die Küsterin\, bangt um den Ruf J
 enůfas und ihr gesellschaftliches Ansehen innerhalb der rigiden Moralvors
 tellungen des Dorfes. Ein Leben ohne Kind sei für Jenůfas Zukunft das ei
 nzig Richtige\, gerade jetzt\, wo sich mit Laca ein neuer Heiratskandidat 
 anbietet. Also fasst die Küsterin einen schrecklichen Entschluss …Lande
 stheater Coburg\, Premiere am 17.05.2025 - Tickets: 09561 / 898989
DTEND:20250601T000000
DTSTART:20250601T150000
LAST-MODIFIED:20250507T092400Z
LOCATION:Globe Coburg
SUMMARY:Jenůfa
X-IMAGE:http://www.region-coburg.tv/images/medium/jenufa-vh-5fc7c1dc.jpg
END:VEVENT
END:VCALENDAR
