BEGIN:VCALENDAR
METHOD:PUBLISH
PRODID:-//6272@www.region-coburg.tv//NONSGML iCalcreator 2.4.3//
VERSION:2.0
BEGIN:VEVENT
UID:6272-20250615160000-20250615000000@www.region-coburg.tv
DTSTAMP:20260419T155445Z
CONTACT:09564 800441
CREATED:20250310T115100Z
DESCRIPTION:Komödie: Der eingebildete KrankeHerr Johann hat es schwer mit
  seinem Hobby. Er kränkelt. Und zwar aus Passion.Jedem kleinsten Zipperle
 in wird sorgsam Rechnung getragen\, die prinzipiell immer zu hoch ausfäll
 t! Denn Ärzte\, Apotheker und Versicherungen sind nichts als Halsabschnei
 der.Ach\, wie gut wäre es doch\, wenn man da jemanden vom Fach an der Han
 d hätte… oder besser noch: in der eigenen Familie?! Aber die bucklige V
 erwandtschaft hat so gar keinen Sinn für die schönen und wichtigen Dinge
  des Lebens! Da gibt‘s nur eine Lösung: STERBEN — und zwar nach allen
  Regeln der Kunst! Hierfür stehe der Eid des Hypochondrikus!DER EINGEBILD
 ETE KRANKE von Molière in einer Neufassung von Rita-Lucia Schneider nimmt
  das Gesundheitssystem kräftig aufs Korn und taucht ab in den Sumpf des a
 llzu menschlichen.Bearbeitung und Inszenierung: Rita-Lucia Schneider - Tic
 kets: 09564 800441
DTEND:20250615T000000
DTSTART:20250615T160000
LAST-MODIFIED:20250310T115100Z
LOCATION:Bad Rodach\, Waldbühne Heldritt
SUMMARY:Der eingebildete Kranke
X-IMAGE:http://www.region-coburg.tv/images/medium/waldbuehen-heldritt-der-e
 ingebildete-kranke-47b89457.jpg
END:VEVENT
END:VCALENDAR
