BEGIN:VCALENDAR
METHOD:PUBLISH
PRODID:-//6271@www.region-coburg.tv//NONSGML iCalcreator 2.4.3//
VERSION:2.0
BEGIN:VEVENT
UID:6271-20250713160000-20250713000000@www.region-coburg.tv
DTSTAMP:20260419T205642Z
CONTACT:09564 800441
CREATED:20250310T114500Z
DESCRIPTION:Märchen: Pettersson & FindusKommt mit auf eine lustige und au
 fregende Reise aufs Land!In unserem neuen Kindertheaterstück erleben wir 
 gemeinsam mit Pettersson\, dem eigenwilligen älteren Herrn und seinem qui
 rligen Kater Findus ein lebendiges Durcheinander voller Abenteuer.Petterss
 on lebt in einem kleinen Häuschen am Rande eines Dorfes und verbringt sei
 ne Tage mit seinem sprechenden Kater\, der immer für eine Überraschung g
 ut ist.Doch das Leben wird niemals langweilig – der neugierige Nachbar G
 ustavsson steckt immer seine Nase in die Angelegenheiten der beiden\, der 
 Hahn Caruso sorgt mit seinem lauten Krähen für ordentlich Lärm\, und da
 s Huhn Prillan ist in Caruso verliebt.Erlebt\, wie Pettersson und Findus z
 usammen mit ihren tierischen Freunden allerlei spannende und lustige Situa
 tionen meistern – voller Fantasie\, Spaß und jeder Menge Lachen!Die Wal
 dbühne wird wie gewohnt mit zauberhafter Kulisse\, herausragenden Kostüm
 en und mit gelungenen Tanzeinlagen das Leben auf dem Land inszenieren\, da
 s Klein und Groß gleichermaßen begeistert!Regie: Michaela Musenja und Re
 bekka GimpelTanz: Ballettstudio am KetschentorText: Sven Nordqvist — fü
 r die Bühne Tristan Berger und Jürgen Flügge - Tickets: 09564 800441
DTEND:20250713T000000
DTSTART:20250713T160000
LAST-MODIFIED:20250310T114500Z
LOCATION:Bad Rodach\, Waldbühne Heldritt
SUMMARY:Pettersson & Findus
X-IMAGE:http://www.region-coburg.tv/images/medium/waldbuehen-heldritt-pette
 rsson-findus-6b435e24.jpg
END:VEVENT
END:VCALENDAR
