BEGIN:VCALENDAR
METHOD:PUBLISH
PRODID:-//5853@www.region-coburg.tv//NONSGML iCalcreator 2.4.3//
VERSION:2.0
BEGIN:VEVENT
UID:5853-20240218160000-20240218000000@www.region-coburg.tv
DTSTAMP:20260420T083659Z
CONTACT:Karten bei allen bekannten Vorverkaufsstellen
CREATED:20240208T154600Z
DESCRIPTION:Jim Knopf und Lukas der LokomotivführerFamilienmusicalGroßer 
 Beliebtheit erfreut sich die Musical-Version dieser wunderbaren Freundscha
 ftsgeschichte. Auf ihrer Reise erleben Jim Knopf und Lukas  die spannends
 ten Abenteuer.  Kinder und Erwachsene – alle werden zum Mitmachen aufge
 fordert. - Tickets: Karten bei allen bekannten Vorverkaufsstellen
DTEND:20240218T000000
DTSTART:20240218T160000
LAST-MODIFIED:20240208T154600Z
LOCATION:Coburg\, Kongresshaus Rosengarten
SUMMARY:Familienmusical: Jim Knopf und Lukas der Lokomotivführer
X-IMAGE:http://www.region-coburg.tv/images/medium/csm-jimknopf-internet-168
 0068394-aefcd5584c-e7e6c607.jpg
END:VEVENT
END:VCALENDAR
