BEGIN:VCALENDAR
METHOD:PUBLISH
PRODID:-//5732@www.region-coburg.tv//NONSGML iCalcreator 2.4.3//
VERSION:2.0
BEGIN:VEVENT
UID:5732-20231207160000-20231207180000@www.region-coburg.tv
DTSTAMP:20260421T221712Z
CREATED:20231130T143400Z
DESCRIPTION:Die Schöne und das BiestDas für seine fantasievollen Musicals
  bekannte Theater Liberi präsentiert das französische Volksmärchen in e
 iner zeitgemäßen und unterhaltsamen Fassung. Ein bestens ausgebildetes E
 nsemble begeistert das Publikum mit abwechslungsreichen Choreografien zu r
 omantischen Balladen und poppigen Songs mit Hitpotenzial. Auf der Bühne e
 ntsteht eine märchenhafte Kulisse: das wandelbare Bühnenbild wechselt zw
 ischen Belles Zuhause und dem verzauberten Schloss\, das mit den traumhaft
 en Kostümen um die Wette funkelt. Seit Jahrhunderten erzählen sich die 
 Menschen schon das Märchen von der Schönen und dem Biest und der Kraft i
 hrer Liebe\, die so stark ist\, dass sie sogar einen Fluch brechen kann. E
 inen Fluch\, der den Prinzen in ein furchteinflößendes Biest verwandelt 
 hat. Als sich eines Tages ein armer Kaufmann in den Schlossgarten verirrt 
 und dort eine Rose pflückt\, fordert das Biest dafür einen hohen Preis. 
 Fortan muss die jüngste Tochter Belle im verwunschenen Schloss leben. Bel
 les anfängliche Angst weicht jedoch schnell der Neugier\, als sie festste
 llt\, dass hinter der harten Schale des Biestes ein weicher Kern steckt un
 d dass sie mit ihm sogar lachen und tanzen kann. Doch Belle ist hin- und h
 ergerissen\, denn sie stellt sich viele Fragen: Was hat es mit dem geheimn
 isvollen Prinzen im Spiegel auf sich? Und warum gibt es diese verzauberten
  Wesen im Schloss? Belle begibt sich auf die Suche nach Antworten…Ab 4 J
 ahren.
DTEND:20231207T180000
DTSTART:20231207T160000
LAST-MODIFIED:20231130T143400Z
LOCATION:Coburg\, Kongresshaus Rosengarten
SUMMARY:Die Schöne und das Biest
X-IMAGE:http://www.region-coburg.tv/images/medium/csm-die-schoene-und-das-b
 iest-das-musical-plakatmotiv-quer-1683029872-f7cfe1340e-455a3810.jpg
END:VEVENT
END:VCALENDAR
