BEGIN:VCALENDAR
METHOD:PUBLISH
PRODID:-//5720@www.region-coburg.tv//NONSGML iCalcreator 2.4.3//
VERSION:2.0
BEGIN:VEVENT
UID:5720-20231202143000-20231202000000@www.region-coburg.tv
DTSTAMP:20260420T202817Z
CONTACT:Eintritt frei!
CREATED:20231130T092100Z
DESCRIPTION:Zimt & ZauberWeihnachtsvarietéshowIm 18. Jahr und nach fünf J
 ahren Pause dieser Varietéshow erleben Sie endlich wieder internationale 
 Varietékünstlerinnen und -künstler in einer phantastischen Revue mit v
 ielen zauberhaften Überraschungen. Umrahmt von einer märchenhaften Gesc
 hichte erleben Sie eine Show für die ganze Familie im Festsaal von St. Au
 gustin.Präsentiert wird die Show vom Förderverein für Kleinkunst und Va
 rieté im Raum Coburg e.V. und diese Künstler sind mit dabei:Phil-Lip (Ta
 nz & Hola Hoop)Anissa Elakel (Handstand)Marcelini (Zauberkunst)Duo Nuel (A
 krobatik)Nicky Viva (Seifenblasen & Balance-Show)Anssi Nurmi (Trick-Dance)
  - Tickets: Eintritt frei!
DTEND:20231202T000000
DTSTART:20231202T143000
LAST-MODIFIED:20231130T092100Z
LOCATION:Coburg\, Pfarr- und Dekanatszentrum St. Augustin
SUMMARY:Zimt & Zauber - Weihnachtsvarietéshow
X-IMAGE:http://www.region-coburg.tv/images/medium/csm-zimt-und-zauber-16971
 94552-c53326b451-25f227c9.jpg
END:VEVENT
END:VCALENDAR
