BEGIN:VCALENDAR
METHOD:PUBLISH
PRODID:-//5692@www.region-coburg.tv//NONSGML iCalcreator 2.4.3//
VERSION:2.0
BEGIN:VEVENT
UID:5692-20231111193000-20231111220000@www.region-coburg.tv
DTSTAMP:20260420T184213Z
CONTACT:Erwachsene 8\,00 â‚¬ / Kinder bis 12 Jahre 4\,00 â‚¬ (auf allen PlÃ
 ¤tzen - freie Platzwahl)
CREATED:20231107T213700Z
DESCRIPTION:Rentner-WG - LaientheaterDie ehemalige OpernsÃ¤ngerin Charlotte
  (Andrea Pachsteffl) mÃ¶chte ihren Lebensabend nicht allein verbringen. Al
 so organisiert sie eine WG fÃ¼r Rentner und Senioren. Die Mitbewohner mÃ¶c
 hte sie sich selbst aussuchen. Zur UnterstÃ¼tzung hat sie sich die Dienste
  von Hermine (Martina Angles) gesichert\, die bereits eine Pflegestation g
 eleitet hat und nun in der WG das Regiment fÃ¼hrt. Es bewerben sich nun Ã¤
 ltere Damen und Herren\, um die WG komplett zu machen. Sophie (Ute GÃ¶bel)
  als ehemalige Lehrerin ist eine niveauvolle Bewohnerin. Konstantin (Chris
 toph Seelmann) war frÃ¼her Arzt und kann seine Erfahrung gut einbringen. E
 r wetteifert mit Sophie darum wer mehr geflÃ¼gelte Worte kennt. Frank (Mar
 kus Lesch) war als Rockmusiker eine schillernde PersÃ¶nlichkeit. Nur sein 
 GehÃ¶r ist nicht mehr das Beste. Der SchwerenÃ¶ter Walter (Tobias Debudey)
  macht die Runde komplett. Er kann einfach nicht die Finger von den Damen 
 lassen. Ein Einbruch bringt das Zusammenleben in Schwung. Warum aber wurde
 n keine WertgegenstÃ¤nde gestohlen?Als Pflegerin stellt sich Ina (Lea Pach
 steffl) vor und teilt sich die Arbeit mit Jonas (Michael Fischer) auf. Jon
 as ist Bufdi\, also Ã¼ber den Bundesfreiwilligendienst zur WG gekommen. In
 a und Jonas sorgen dafÃ¼r\, dass es den alten Herrschaften nie langweilig 
 wird. Aber sind alle in der WG immer ganz ehrlich oder trÃ¤gt jemand ein G
 eheimnis mit sich herum? - Tickets: Erwachsene 8\,00 â‚¬ / Kinder bis 12 J
 ahre 4\,00 â‚¬ (auf allen PlÃ¤tzen - freie Platzwahl)
DTEND:20231111T220000
DTSTART:20231111T193000
LAST-MODIFIED:20231107T213700Z
LOCATION:Coburg\, Pfarrzentrum St. Marien
SUMMARY:Rentner-WG - Laientheater
X-IMAGE:http://www.region-coburg.tv/images/medium/csm-plakat-2023-169705550
 0-2e1bf8016f-f6983530.jpg
END:VEVENT
END:VCALENDAR
