BEGIN:VCALENDAR
METHOD:PUBLISH
PRODID:-//5687@www.region-coburg.tv//NONSGML iCalcreator 2.4.3//
VERSION:2.0
BEGIN:VEVENT
UID:5687-20231109190000-20231109000000@www.region-coburg.tv
DTSTAMP:20260420T165247Z
CONTACT:26€ mit Buffet\, 15€ Abendkasse ohne Buffet
CREATED:20231107T110900Z
DESCRIPTION:Universe & DineEine Konzert-Lesung zu den Sphären des Weltalls
  mit Jennifer Rüth und Prof. Dr. Andreas Kissenbeck Ist Beamen umweltfreu
 ndlich? Wie begrüßt man einen Außerirdischen? Gibt es einen Strafzettel
 \, wenn man innerhalb geschlossener Galaxien die Lichtgeschwindigkeit übe
 rschreitet? Spannende Fragen\, die Jennifer Rüth und Prof. Dr. Andreas Ki
 ssenbeck auf ihrer künstlerisch-wissenschaftlichen Reise durch das Univer
 sum beantworten.Gesang\, Klavier & elektronische Beats beamen das Publikum
  an diesem Abend in die musikalischen Sphären des Weltalls mit Hits wie 
 Fly Me to the Moon oder A Sky Full of Stars (Coldplay). Spacige Eigenko
 mpositionen des Duos ergänzen den musikalischen Kosmos.Einlass 18:15 Uhr 
 - Beginn 19:00 UhrTickets: Im Gesamtpreis von 26\,00 € ist ein auf die T
 hematik des Abends abgestimmtes Miniglas-Buffet v. bauer DAS RESTAURANT\, 
 Sonnefeld enthalten. Tickets: www.musicvision-coburg.de und Riemann am Mar
 kt / Restkarten ohne Catering für 15\,00 a. d. Abendkasse  - Tickets: 26
 € mit Buffet\, 15€ Abendkasse ohne Buffet
DTEND:20231109T000000
DTSTART:20231109T190000
LAST-MODIFIED:20231107T110900Z
LOCATION:Coburg\, Wohnbau Stadt Coburg GmbH und Stadtentwicklungsgesellscha
 ft Coburg mbH
SUMMARY:Universe & Dine
X-IMAGE:http://www.region-coburg.tv/images/medium/csm-motiv-universe-dine-1
 682519770-ae1d5c46ba-b1372f1f.jpg
END:VEVENT
END:VCALENDAR
