BEGIN:VCALENDAR
METHOD:PUBLISH
PRODID:-//5680@www.region-coburg.tv//NONSGML iCalcreator 2.4.3//
VERSION:2.0
BEGIN:VEVENT
UID:5680-20231027200000-20231027000000@www.region-coburg.tv
DTSTAMP:20260420T165755Z
CREATED:20231024T114200Z
DESCRIPTION:Thermaler WiderstandMit dieser sehr besonderen Produktion gasti
 ert das Landestheater Coburg in der ThermeNatur Bad Rodach! Theater in der
  Therme\, funktioniert das? Na klar! Schließlich hat Ferdinand Schmalz se
 in 2016 uraufgeführtes Theaterstück „der thermale widerstand“ in ein
 em waschechten Thermalbad angesiedelt. Ein guter Grund also für einen feu
 chten Tapetenwechsel\, um endlich einmal Theater an einem konkreten (Welln
 ess-)Ort spielen zu können.In seinem humoristischen und vor allem sprachl
 ich irrwitzigen Thermenspiel verhandelt der österreichische Schriftstelle
 r Schmalz die Krisen unserer permanent durchnässten Überflussgesellschaf
 t\, die selbst an einem Ort der Entspannung wie dem Thermalbad deutlich zu
  spüren sind. Denn während die Badeelite ihre Therme ganz allein für si
 ch behalten will\, möchte es die Leitung für alle Wellnesssuchenden öff
 nen und das traditionsbewusste Bad in eine tropische Oase für jedermann v
 erwandeln. Doch schon bald regt sich gegen dieses Vorhaben Widerstand in d
 en eigenen Reihen. Ein Kampf zwischen Tradition und Innovation voller Absu
 rditäten\, Komik und Wortwitz beginnt und die überhitzte Eskalation im E
 rholungsparadies ist nur noch eine Frage der Zeit …Folgen Sie dem Landes
 theater in die Therme: Sie baden\, wir spielen!
DTEND:20231027T000000
DTSTART:20231027T200000
LAST-MODIFIED:20231024T114200Z
LOCATION:Bad Rodach\, ThermeNatur
SUMMARY:Thermaler Widerstand
X-IMAGE:http://www.region-coburg.tv/images/medium/csm-5g3a1696-1689250393-c
 ebdb3ffcf-a6828546.jpg
END:VEVENT
END:VCALENDAR
