BEGIN:VCALENDAR
METHOD:PUBLISH
PRODID:-//5668@www.region-coburg.tv//NONSGML iCalcreator 2.4.3//
VERSION:2.0
BEGIN:VEVENT
UID:5668-20231023200000-20231023000000@www.region-coburg.tv
DTSTAMP:20260420T151005Z
CREATED:20231019T234200Z
DESCRIPTION:Alexej Gerassimez\, Percussion & FriendsBereits vor 10 Jahren w
 ar der in Essen geborene Perkussionist Alexej Gerassimez mit einem außerg
 ewöhnlichen Konzert im VEREIN zu Gast. Mittlerweile ist er Professor für
  Schlagzeug an der Hochschule für Musik und Theater in München und nicht
  nur ein phänomenaler Virtuose\, sondern auch ein kreativer\, intelligent
 er Musiker mit unglaublicher Energie und großem Farbenreichtum. Er gestal
 tet Solo-Programme\, tritt mit seiner eigenen Percussion-Group auf und ist
  ein begeisterter Kammermusiker. Sein Repertoire reicht von Klassik und Ja
 zz bis hin zu Neuer Musik und Auftragswerken.In Coburg werden wir ein Prog
 ramm erleben\, bei dem Minimal Music auf Eigenkompositionen trifft: „Can
 to ostinato“\, das bekannteste und meist aufgeführte Werk des niederlä
 ndischen Komponisten Simeon ten Holt\,  wird mit der „Suite of Elements
 “ von Alexej Gerassimez durchwoben.Intoniert von vier (!) Perkussioniste
 n und Klavier erwartet Sie ein außergewöhnlich intensives\, meditatives 
 Klangerlebnis mit beinahe hypnotisierender Wirkung!Alexej Gerassimez\, Jul
 ius Apriadi\, Emil Kuyumcuyan\, Sergey Mikhaylenko - Percussion • Nicola
 i Gerassimez\, KlavierEintritt:Tickets für 20\,00 € über www.verein-co
 burg.de\, Vorverkauf bei Buchhandlung Riemann\, Coburg\, Tel. 09561 / 8087
 12 oder an der Abendkasse. Freier Eintritt für Schüler/Studenten/Mitglie
 der der Tafel Coburg sowie Inhaber des Coburg-Passes gegen Vorlage
DTEND:20231023T000000
DTSTART:20231023T200000
LAST-MODIFIED:20231019T234200Z
LOCATION:Coburg\, Foyer der HUK Coburg
SUMMARY:Alexej Gerassimez: Percussion & Friends
X-IMAGE:http://www.region-coburg.tv/images/medium/csm-alexej-gerassimez-23-
 10-23-1679316195-d04da36003-a50bfb02.jpg
END:VEVENT
END:VCALENDAR
