BEGIN:VCALENDAR
METHOD:PUBLISH
PRODID:-//5616@www.region-coburg.tv//NONSGML iCalcreator 2.4.3//
VERSION:2.0
BEGIN:VEVENT
UID:5616-20230930150000-20230930000000@www.region-coburg.tv
DTSTAMP:20260420T132954Z
CONTACT:25\,00 € Erw. / 15\,00 € Kind bis 14 Jahre
CREATED:20230920T184600Z
DESCRIPTION:'Coburg magisch! - Zauberkunst live & hautnah'Erleben Sie im Sa
 al St. Augustin bei „Coburg Magisch!“ internationale Zauberkünstler h
 autnah und live. Tauchen Sie ein in diese fantastische und magische Welt d
 er Zauberei! Vergessen Sie den Alltag und werden Sie Zeuge\, wie die Natur
 gesetze auf den Kopf gestellt werden\, lachen Sie\, staunen Sie und lassen
  Sie sich verzaubern!Fünf Zauberkünstler stehen auf der Bühne:Miles Pit
 well – The Professor of MagicAmila – Magie mit den Waffen einer FrauDa
 niel Craven – präsentiert die Welt der IllusionPhantaro – Comedyzaube
 rei und EntertainmentMarcelini – Zauberkunst\, Bauchreden und Moderation
 Eintritt: 25\,00 € Erw. / 15\,00 € Kind bis 14 Jahre - Tickets: 25\,00
  € Erw. / 15\,00 € Kind bis 14 Jahre
DTEND:20230930T000000
DTSTART:20230930T150000
LAST-MODIFIED:20230920T184600Z
LOCATION:Coburg\, Kirche St. Augustin
SUMMARY:Coburg magisch!
X-IMAGE:http://www.region-coburg.tv/images/medium/coburg-magisch-341255d2.j
 pg
END:VEVENT
END:VCALENDAR
