BEGIN:VCALENDAR
METHOD:PUBLISH
PRODID:-//5591@www.region-coburg.tv//NONSGML iCalcreator 2.4.3//
VERSION:2.0
BEGIN:VEVENT
UID:5591-20230914190000-20230914000000@www.region-coburg.tv
DTSTAMP:20260420T132839Z
CONTACT:Vorverkauf 18\,00 â‚¬ / Abendkasse 20\,00 â‚¬
CREATED:20230913T084400Z
DESCRIPTION:FrÃ¤nkischer Theatersommer RÃ¶dental:'LÃ¼gen haben lange Beine'
 Sie haben auch schon einmal geschwindelt? Kein Problem! Ein Hoch auf die L
 Ã¼ge! Sie zieht sich wie ein roter Faden durch die Literatur\, die Musik\,
  die Geschichte und unseren Alltag. Was wÃ¤ren wir ohne Baron MÃ¼nchhausen
 \, Pinocchio und KÃ¤ptâ€˜n BlaubÃ¤r? Kein Kind wÃ¤chst auf ohne Schummeln\
 , Verstecken und Ãœbertreiben. Kein Single setzt sich mit einem ungeschÃ¶n
 ten Online-Profil durch. Und wer wÃ¤hlt schon einen Politiker\, der keine 
 haltlosen Versprechungen macht?Silvia Ferstl und Christoph Ackermann spiel
 en und singen sich quer durch die Menschheitsgeschichte. Sie leugnen\, blu
 ffen\, tÃ¤uschen\, flunkern\, heucheln und hochstapeln\, bis sich die Balk
 en biegen. Denn durch alternative Fakten kommt man nicht nur schneller vor
 wÃ¤rts als die Konkurrenz â€“ lÃ¼gen macht auch SpaÃŸ! Oder?Vorverkauf in 
 der Stadtkasse RÃ¶dental Tel. 09563 / 96-26 - Tickets: Vorverkauf 18\,00 â
 ‚¬ / Abendkasse 20\,00 â‚¬
DTEND:20230914T000000
DTSTART:20230914T190000
LAST-MODIFIED:20230913T084400Z
LOCATION:RÃ¶dental\, Rathaussaal
SUMMARY:Theatersommer - LÃ¼gen haben lange Beine
X-IMAGE:http://www.region-coburg.tv/images/medium/luegen-haben-lange-beine-
 45c72eaf.png
END:VEVENT
END:VCALENDAR
