BEGIN:VCALENDAR
METHOD:PUBLISH
PRODID:-//5536@www.region-coburg.tv//NONSGML iCalcreator 2.4.3//
VERSION:2.0
BEGIN:VEVENT
UID:5536-20231006180000-20231006000000@www.region-coburg.tv
DTSTAMP:20260420T132534Z
CONTACT:09561 / 898989
CREATED:20230820T173000Z
DESCRIPTION:Zur Eröffnung des GLOBE COBURG planen wir eine große Eröffnu
 ngsgala. Sie haben ab Mitte September die Möglichkeit\, sich Tickets für
  diesen Abend zu sichern. Zur Aufführung kommt\, neben Ludwig van Beethov
 ens monumentaler 9. Sinfonie in d-Moll\, die Ouvertüre zu Daniel-Françoi
 s-Esprit Aubers „Le lac de fées“ – jener Oper\, mit der das Coburge
 r Hoftheater am Schlossplatz im Jahre 1840 eröffnet wurde. Wir freuen uns
  auf einen tollen Abend!Landestheater Coburg\, Premiere am 6. Oktober 2023
  - Tickets: 09561 / 898989
DTEND:20231006T000000
DTSTART:20231006T180000
LAST-MODIFIED:20230820T173000Z
LOCATION:Globe Coburg
SUMMARY:Eröffnungsgala Globe Coburg
X-IMAGE:http://www.region-coburg.tv/images/medium/globe-4-3-6def7ecc.jpg
END:VEVENT
END:VCALENDAR
