BEGIN:VCALENDAR
METHOD:PUBLISH
PRODID:-//5474@www.region-coburg.tv//NONSGML iCalcreator 2.4.3//
VERSION:2.0
BEGIN:VEVENT
UID:5474-20230716160000-20230716000000@www.region-coburg.tv
DTSTAMP:20260420T115638Z
CONTACT:20 â‚¬
CREATED:20230711T101200Z
DESCRIPTION:FuÃŸtheater Anne Klinge: 'Die ZauberflÃ¶te'Die ZauberflÃ¶teÂ â€
 “ nach W.A.MozartMozart wÃ¤re begeistert gewesen: mit groÃŸem Charme und W
 itz entstehen aus den FÃ¼ÃŸen von Anne Klinge Pamina und Tamino\, Papagena
  und Papageno\, Sarastro und die KÃ¶nigin der Nacht. Statt der drei engels
 gleichen Knaben begegnet Tamino rotgeschopften Fingerpuppen in einem Ufo\,
  Feuer- und Wasserprobe sind lange nicht so furchtbar â€“ eine besiegte Gi
 eÃŸkanne bleiben zurÃ¼ck und ein Taschen-Feuer\, grad recht zum Zigarette 
 anzÃ¼nden.Gumminasen auf der FuÃŸsohle\, kleine PerÃ¼cken auf den Zehen\, 
 bunte KostÃ¼me und natÃ¼rlich die bekannte Mozart-Musik â€“ in Ausschnitte
 n â€“ ergibt diese besondere Version der â€žZauberflÃ¶teâ€œ. An mancher St
 elle augenzwinkernd abgewandelt\, ist die den Opernfans gut vertraute Gesc
 hichte ein bisschen um die Ecke gedacht\, aber einzigartig zu FuÃŸ.Dauer:Â
  50 MinutenKosten:Â 20\,00 â‚¬Tickets unterÂ Tel. 09568 / 5600 bzw.Â info@
 spielzeugmuseum-neustadt.de - Tickets: 20 â‚¬
DTEND:20230716T000000
DTSTART:20230716T160000
LAST-MODIFIED:20230711T101200Z
LOCATION:Neustadt bei Coburg\, Museum der Deutschen Spielzeugindustrie
SUMMARY:FuÃŸtheater: Die ZauberflÃ¶te
X-IMAGE:http://www.region-coburg.tv/images/medium/fusstheater-zauberfloete-
 bf20db76.jpg
END:VEVENT
END:VCALENDAR
