BEGIN:VCALENDAR
METHOD:PUBLISH
PRODID:-//5359@www.region-coburg.tv//NONSGML iCalcreator 2.4.3//
VERSION:2.0
BEGIN:VEVENT
UID:5359-20230513160000-20230513000000@www.region-coburg.tv
DTSTAMP:20260420T083723Z
CONTACT:Eintritt frei!
CREATED:20230509T101800Z
DESCRIPTION:TheaterfestErleben Sie ein buntes Programm mit Talks\, Lesungen
 \, offenem Balletttraining\, Schauspiel und Basteln!Schlossplatz:16:00 Uhr
 :Â Basteln mit den Abteilungen Maske und Requisite fÃ¼r Kinder zum Thema U
 mtweltschutz. Musik und Unterhaltung durch RadioEINS.17:00 Uhr:Â Interview
 s mit Thomas Apfel und spannenden Personen rund um das TheaterReithalle:16
 :00 Uhr:Â 'Lauschzeit' Der Eintritt ist frei.17:00 Uhr:Â Club 56 im Foyer 
 Reithalle - Der Club 56 zeigt Ausschnitte aus seiner aktuellen Produktion 
 'Mr. Pilks Irrenhaus' Der Eintritt ist frei.17:30 Uhr:Â Schauspiel 'Wer zu
 letzt lacht...' - Der Eintritt ist frei.22:30 - 00:00 Uhr:Â Black Star - A
 lternative-Rock. Der Eintritt ist frei.GroÃŸes Haus:16:00 - 18:30 Uhr:Â FÃ
 ¼hrungen durch das GroÃŸe Haus - Die Teilnehmerzahl pro FÃ¼hrung ist begre
 nzt\, kostenlose Karten erhalten Sie am Infostand auf dem Schlossplatz.16:
 00 Uhr:Â Offenes Balletttraining mit dem Ballett Coburg - Moderation Mark 
 McClain und Dr. Bernhard Loges. Der Eintritt ist frei.17:00 Uhr:Â Do you h
 ear the people sing? - Ausschnitte aus dem Programm des Chorkonzerts mit M
 oderation durch Chordirektorin Alicia Lapasin-Zorzit. Der Eintritt ist fre
 i.FÃ¼r das leibliche Wohl sorgen die KÃ¼nstlerklause\, das Old Marshalls u
 nd die Fleischerei Boseckert. - Tickets: Eintritt frei!
DTEND:20230513T000000
DTSTART:20230513T160000
LAST-MODIFIED:20230509T101800Z
LOCATION:Coburg\, Landestheater
SUMMARY:Theaterfest
X-IMAGE:http://www.region-coburg.tv/images/medium/theaterfest-1b0c11a3.jpg
END:VEVENT
END:VCALENDAR
