BEGIN:VCALENDAR
METHOD:PUBLISH
PRODID:-//5358@www.region-coburg.tv//NONSGML iCalcreator 2.4.3//
VERSION:2.0
BEGIN:VEVENT
UID:5358-20230513193000-20230513000000@www.region-coburg.tv
DTSTAMP:20260420T091652Z
CREATED:20230509T100300Z
DESCRIPTION:'Finale Glorioso - Die groÃŸe Abschiedsgala'Nach der Operngala 
 im letzten Jahr\, erwartet Sie nun das als Abschiedsgala â€žFinale Glorios
 oâ€œ geplante Programm.Bevor sich die TÃ¼ren schlieÃŸen\, bittet das Lande
 stheater noch einmal zum Finale Glorioso und einem groÃŸen Abschiedsfest m
 it Programm in beiden SpielstÃ¤tten und auf dem Schlossplatz. Einzelheiten
  zu diesem besonderen Event gibt das Landestheater in KÃ¼rze bekannt.Die Z
 uschauer*innen haben im letzten Jahr Ã¼ber das Programm der Abschiedsgala 
 im GroÃŸen Haus abgestimmt. Sie durften Ihre fÃ¼nf Lieblingsproduktionen a
 us dem Musiktheaterprogramm der letzten zehn Spielzeiten wÃ¤hlen\, aus den
 en dann zu diesem Anlass StÃ¼ckeÂ erklingen werden. Mit dabei waren Erfolg
 sproduktionen wie â€žDie Schatzinselâ€œ\, â€žA Spider Murphy Storyâ€œ\, â€
 žDieÂ Fledermausâ€œ\, â€žCarmenâ€œ\, â€žPeter Grimesâ€œ u.v.a.m.
DTEND:20230513T000000
DTSTART:20230513T193000
LAST-MODIFIED:20230509T100300Z
LOCATION:Landestheater Coburg\, GroÃŸes Haus
SUMMARY:Finale Glorioso
X-IMAGE:http://www.region-coburg.tv/images/medium/finale-glorioso-990d6bf7.
 jpg
END:VEVENT
END:VCALENDAR
