BEGIN:VCALENDAR
METHOD:PUBLISH
PRODID:-//5249@www.region-coburg.tv//NONSGML iCalcreator 2.4.3//
VERSION:2.0
BEGIN:VEVENT
UID:5249-20230308200000-20230308000000@www.region-coburg.tv
DTSTAMP:20260420T083454Z
CREATED:20230302T112000Z
DESCRIPTION:Theater im Steinweg TIS:'Achtermaerz - frau\, frauer\, am fraue
 sten'Im Steinweg 29 startete in dieser Spielzeit eine neue Reihe\, die ab 
 sofort den Namen TIS - 'Theater im Steinweg' - trägt. Mit einem monatlich
  wechselnden Programm verwandelt sich die ehemalige Fleischerei in einen P
 erformance-Ort mit Clubatmosphäre für junge Kreative aus den Reihen des 
 Theaters.'Sei eine Lady\, haben sie dir gesagt. Rede nicht zu laut. Rede n
 icht zu viel.Sei nicht so Angst einflößend. Warum bist du so missmutig.
  Sei keine bitch.'
DTEND:20230308T000000
DTSTART:20230308T200000
LAST-MODIFIED:20230302T112000Z
LOCATION:Coburg\, Steinweg
SUMMARY:Theater im Steinweg
X-IMAGE:http://www.region-coburg.tv/images/medium/achtermaerz-603e6909.jpg
END:VEVENT
END:VCALENDAR
