BEGIN:VCALENDAR
METHOD:PUBLISH
PRODID:-//4446@www.region-coburg.tv//NONSGML iCalcreator 2.4.3//
VERSION:2.0
BEGIN:VEVENT
UID:4446-20181205190000-20181205000000@www.region-coburg.tv
DTSTAMP:20260421T193626Z
CREATED:20181122T181100Z
DESCRIPTION:Bitterböses zu WeihnachtenDie in Coburg geborene Autorin Fried
 erike Schmöe ist nicht nur für ihre spannenden Kriminalromane\, sondern 
 auch für ihre bitterbösen Weihnachts-Krimis bekannt. Ihr neuester trägt
  den Titel „Drauss‘ vom Walde“.  Zwei Paare verbringen Weihnachten 
 in einem abgelegenen Haus im Frankenwald. Doch die Dinge sind nicht\, wie 
 sie scheinen\, die Erwartungen an Weihnachten erweisen sich als trügerisc
 h. Die Autoren-Lesung findet am Mittwoch\, den 05. Dezember in der Coburge
 r Stadtbücherei statt.
DTEND:20181205T000000
DTSTART:20181205T190000
LAST-MODIFIED:20181122T181100Z
LOCATION:Coburg\, Stadtbücherei
SUMMARY:Drauss' vom Walde
X-IMAGE:http://www.region-coburg.tv/images/medium/krimi-vh-8f494f51.jpg
END:VEVENT
END:VCALENDAR
