BEGIN:VCALENDAR
METHOD:PUBLISH
PRODID:-//4445@www.region-coburg.tv//NONSGML iCalcreator 2.4.3//
VERSION:2.0
BEGIN:VEVENT
UID:4445-20181205160000-20181205000000@www.region-coburg.tv
DTSTAMP:20260425T020836Z
CONTACT:09561 / 82830
CREATED:20181122T180700Z
DESCRIPTION:Fantasievolle FamilienshowDienstag\, der 04. und Mittwoch\, der
  05. Dezember sind für kleine und große Musical-Fans reserviert. Bekannt
  für seine fantasievollen Familienshows\, setzt das „Theater Liberi“ 
 diesmal einen Klassiker in Szene. Carlo Collodis Geschichte von Pinocchio\
 , der berühmtesten Holzpuppe der Welt\, kommt als Musical auf die Bühne 
 des Kongresshauses. Das spannende Abenteuer ist für Kinder ab 4 Jahren ge
 eignet. - Tickets: 09561 / 82830
DTEND:20181205T000000
DTSTART:20181205T160000
LAST-MODIFIED:20181122T180700Z
LOCATION:Kongresshaus Rosengarten
SUMMARY:Pinocchio - Das Musical
X-IMAGE:http://www.region-coburg.tv/images/medium/pinocchio-vh-dceface0.jpg
END:VEVENT
END:VCALENDAR
