BEGIN:VCALENDAR
METHOD:PUBLISH
PRODID:-//4439@www.region-coburg.tv//NONSGML iCalcreator 2.4.3//
VERSION:2.0
BEGIN:VEVENT
UID:4439-20181116190000-20181116000000@www.region-coburg.tv
DTSTAMP:20260425T224111Z
CONTACT: 09561 / 18687
CREATED:20181109T165800Z
DESCRIPTION:'Die Zeit ist aus den Fugen …“Hamlet\, 1. Akt\, 5. Szene. D
 ieses Zitat liefert das Motto für  einen unterhaltsamen Shakespeare-Aben
 d der etwas anderen Art. Die Schauspieler Britta Hübel und Frederik Leber
 le tragen Monologe und Dialoge aus verschiedenen Werken Shakespeares vor\,
  ergänzt durch Ballettszenen und Musik von John Dowland  aus der Shakesp
 earezeit. Zu erleben am Freitag\, den 16. November in Coburg im Alten Post
 gebäude. - Tickets:  09561 / 18687
DTEND:20181116T000000
DTSTART:20181116T190000
LAST-MODIFIED:20181109T165800Z
LOCATION:Coburg\, Altes Postgebäude
SUMMARY:Ein Abend mit Shakespeare
X-IMAGE:http://www.region-coburg.tv/images/medium/shakespeare-vh-d7d1f040.j
 pg
END:VEVENT
END:VCALENDAR
