BEGIN:VCALENDAR
METHOD:PUBLISH
PRODID:-//4434@www.region-coburg.tv//NONSGML iCalcreator 2.4.3//
VERSION:2.0
BEGIN:VEVENT
UID:4434-20181019000000-20190111000000@www.region-coburg.tv
DTSTAMP:20260419T161329Z
CONTACT:Eintritt frei!
CREATED:20181030T161700Z
DESCRIPTION:Fotoausstellung von Jutta PunkenWas fasziniert Jutta Punken an 
 der Fotografie? 'Mit einem Foto kann ich dem Betrachter die Schönheit ein
 es Moments oder eines Objekts nahe bringen\, ohne dass er dabei gewesen se
 in muss. Ich brauche nur das ansprechende Motiv\, eine gute Perspektive un
 d das richtige Licht!'Die in Neustadt bei Coburg lebende Fotografin ist im
 mer unterwegs\, um die packende Ästhetik ihrer Motive zu finden. Oft ist 
 dies die Architektur mit ihren klaren Strukturen und Formen. Blumen hingeg
 en inszeniert sie gern als Stillleben. Ihre künstlerischen Möglichkeiten
  sind fast grenzenlos\, wenn es nach dem Fotografieren an die digitale Bil
 dbearbeitung geht.'Ganz besonders spannend finde ich es immer\, wenn mir a
 ndere Menschen ihre Deutung meiner Bilder mitteilen'\, so Jutta Punken\, '
 deshalb freue ich mich schon auf die Ausstellung im Hospizverein.' - Ticke
 ts: Eintritt frei!
DTEND;VALUE=DATE:20190112
DTSTART;VALUE=DATE:20181019
LAST-MODIFIED:20181030T161700Z
LOCATION:Coburg\, Hospizverein Coburg e.V.
SUMMARY:Blickwinkel
X-IMAGE:http://www.region-coburg.tv/images/medium/punken-vh-88e2fe6b.jpg
END:VEVENT
END:VCALENDAR
