BEGIN:VCALENDAR
METHOD:PUBLISH
PRODID:-//4433@www.region-coburg.tv//NONSGML iCalcreator 2.4.3//
VERSION:2.0
BEGIN:VEVENT
UID:4433-20181027000000-20181104000000@www.region-coburg.tv
DTSTAMP:20260421T180206Z
CREATED:20181030T161000Z
DESCRIPTION:1. Coburger KinderkulturwocheIdee hierbei ist\, allen Kindern a
 us Stadt und Landkreis Coburg die Möglichkeit zu geben\, mit möglichst v
 ielen niederschwelligen kulturellen Angeboten in Kontakt zu kommen. Im ers
 ten Jahr legen wir den Fokus auf Museen\, Theater und Lesungen.Was sind ei
 gentlich Fossilien? Im Naturkundemuseum dürft Ihr sie sogar fälschen!Wis
 st Ihr was es auf der Veste Coburg für  Kunstsammlungen gibt?Gibt es im 
 Puppenmuseum nur Puppen?Eine Theatervorstellung erleben?Spannende Geschich
 ten an geheimnisvollen Orten? ...Eure Eltern arbeiten in den Herbstferien
 ? Kein Problem! Zu verschiedenen Angeboten bieten wir auch Kinderbetreuung
  an.Programm
DTEND;VALUE=DATE:20181105
DTSTART;VALUE=DATE:20181027
LAST-MODIFIED:20181030T161000Z
LOCATION:Coburg\, Innenstadt
SUMMARY:Coburg ist Kult
X-IMAGE:http://www.region-coburg.tv/images/medium/kinderkultur-vh-19aa5ee6.
 jpg
END:VEVENT
END:VCALENDAR
